BEGIN:VCALENDAR
VERSION:2.0
PRODID:-//Domaine de Trépaloup - ECPv6.8.3//NONSGML v1.0//EN
CALSCALE:GREGORIAN
METHOD:PUBLISH
X-ORIGINAL-URL:https://domainetrepaloup.com
X-WR-CALDESC:Évènements pour Domaine de Trépaloup
REFRESH-INTERVAL;VALUE=DURATION:PT1H
X-Robots-Tag:noindex
X-PUBLISHED-TTL:PT1H
BEGIN:VTIMEZONE
TZID:Europe/Paris
BEGIN:DAYLIGHT
TZOFFSETFROM:+0100
TZOFFSETTO:+0200
TZNAME:CEST
DTSTART:20240331T010000
END:DAYLIGHT
BEGIN:STANDARD
TZOFFSETFROM:+0200
TZOFFSETTO:+0100
TZNAME:CET
DTSTART:20241027T010000
END:STANDARD
END:VTIMEZONE
BEGIN:VEVENT
DTSTART;TZID=Europe/Paris:20240205T093000
DTEND;TZID=Europe/Paris:20240206T190000
DTSTAMP:20260424T181717
CREATED:20240122T143602Z
LAST-MODIFIED:20240122T143602Z
UID:12219-1707125400-1707246000@domainetrepaloup.com
SUMMARY:Salon de Vin: La Levée de la Loire 2024
DESCRIPTION:Des vins et des personnalités authentiques !!! \nLa Levée de la Loire\, le Salon des vins Demeter et le Salon des vins de Loire sous la bannière ALT (Angers-Loire-dégusT) vous proposent un moment globale et alternatif lors d’un seul et unique rendez-vous les 5 & 6 Février 2024 au Parc des Expo d’Angers. \nDu Lundi 5 au Mardi 6 Février 2024\, de 10h00 à 19h00\, Grand Palais I9 au Parc Expo dAngers. \nRéservé aux professionnels\, sur invitation et/ou inscription.
URL:https://domainetrepaloup.com/evenement/salon-de-vin-la-levee-de-la-loire-2024/
LOCATION:Parc des Expositions Angers\, Route de Paris\, ANGERS\, Pays de la Loire\, 49000\, France
CATEGORIES:Foires et salons
ATTACH;FMTTYPE=image/jpeg:https://domainetrepaloup.com/wp-content/uploads/2024/01/InvitationAIVBLAngers2024.jpeg
END:VEVENT
BEGIN:VEVENT
DTSTART;TZID=Europe/Paris:20240129T100000
DTEND;TZID=Europe/Paris:20240131T190000
DTSTAMP:20260424T181717
CREATED:20240122T141836Z
LAST-MODIFIED:20240122T141836Z
UID:12215-1706522400-1706727600@domainetrepaloup.com
SUMMARY:Salon de Vin: Millésime Bio 2024
DESCRIPTION:Millésime Bio où le Salon Mondial du Vin Bio. \n1500 exposants de toutes les régions viticoles française présentes et une sélection de producteurs internationaux avec 20 pays exposants sur le salon 2024 !!! \n(2024 l’année des 100ans de la biodynamie: 1924 publication du Cours aux Agriculteurs par Rudolf Steiner\, manifeste fondateur de la biodynamie) \nDu Lundi 29 au Mercredi 31 Janvier 2024\, de 10h00 à 19h00\, Hall B1 Stand n°107 au Parc Expo de Montpellier. \nRéservé aux professionnels\, sur invitation.
URL:https://domainetrepaloup.com/evenement/salon-de-vin-millesime-bio-2024/
LOCATION:Parc des Expositions de Montpellier\, Route de la Foire\, Pérols\, Hérault\, 34470\, France
CATEGORIES:Foires et salons
ATTACH;FMTTYPE=image/jpeg:https://domainetrepaloup.com/wp-content/uploads/2024/01/physique_1080_1080_fr_HB1_S107.jpg
END:VEVENT
BEGIN:VEVENT
DTSTART;TZID=Europe/Paris:20240128T150000
DTEND;TZID=Europe/Paris:20240128T210000
DTSTAMP:20260424T181717
CREATED:20240122T135953Z
LAST-MODIFIED:20240122T135953Z
UID:12210-1706454000-1706475600@domainetrepaloup.com
SUMMARY:Salon de Vin: SAPORTA 2024
DESCRIPTION:Simple\, court et convivial\, voilà le Salon des Vins du Languedoc au Mas de Saporta. \nDimanche 28 Janvier 2024\, de 15h00 à 21h00\, Stand n°145 au Mas de Saporta. \nA709\, sortie 30 Montpellier Sud\, direction Palavas\, sortie Mas de Saporta (parking gratuit). \nRéservé aux professionnels\, sur inscription au: www.reservations.languedoc-aoc.com
URL:https://domainetrepaloup.com/evenement/salon-de-vin-saporta-2024/
LOCATION:Mas de Saporta\, Mas de Saporta - CS 30030\, Lattes\, Hérault\, 34973
CATEGORIES:Foires et salons
ATTACH;FMTTYPE=image/jpeg:https://domainetrepaloup.com/wp-content/uploads/2024/01/pave╠u-saporta-2024.jpg
END:VEVENT
END:VCALENDAR